BEGIN:VCALENDAR
VERSION:2.0
PRODID:-//Brown Immigration Law - ECPv6.15.20//NONSGML v1.0//EN
CALSCALE:GREGORIAN
METHOD:PUBLISH
X-ORIGINAL-URL:https://brownimmigrationlaw.com
X-WR-CALDESC:Events for Brown Immigration Law
REFRESH-INTERVAL;VALUE=DURATION:PT1H
X-Robots-Tag:noindex
X-PUBLISHED-TTL:PT1H
BEGIN:VTIMEZONE
TZID:America/Chicago
BEGIN:DAYLIGHT
TZOFFSETFROM:-0600
TZOFFSETTO:-0500
TZNAME:CDT
DTSTART:20250309T080000
END:DAYLIGHT
BEGIN:STANDARD
TZOFFSETFROM:-0500
TZOFFSETTO:-0600
TZNAME:CST
DTSTART:20251102T070000
END:STANDARD
BEGIN:DAYLIGHT
TZOFFSETFROM:-0600
TZOFFSETTO:-0500
TZNAME:CDT
DTSTART:20260308T080000
END:DAYLIGHT
BEGIN:STANDARD
TZOFFSETFROM:-0500
TZOFFSETTO:-0600
TZNAME:CST
DTSTART:20261101T070000
END:STANDARD
BEGIN:DAYLIGHT
TZOFFSETFROM:-0600
TZOFFSETTO:-0500
TZNAME:CDT
DTSTART:20270314T080000
END:DAYLIGHT
BEGIN:STANDARD
TZOFFSETFROM:-0500
TZOFFSETTO:-0600
TZNAME:CST
DTSTART:20271107T070000
END:STANDARD
END:VTIMEZONE
BEGIN:VEVENT
DTSTART;TZID=America/Chicago:20260507T130000
DTEND;TZID=America/Chicago:20260507T140000
DTSTAMP:20260423T015735
CREATED:20260216T193833Z
LAST-MODIFIED:20260216T205003Z
UID:4420-1778158800-1778162400@brownimmigrationlaw.com
SUMMARY:Green Card Series: Strategic Paths for Employers and Foreign-Born Talent Part One
DESCRIPTION:Part 1: Building a Strategic Path to Permanent Residency \nJoin David Zaritzky Brown\, Founder and Managing Partner of Brown Immigration Law\, for the first session of our two-part Green Card series. David will walk through the key options employers have to help foreign-born employees achieve permanent residency. \nIn this session\, you will learn: \n\n How the visa bulletin works and the current state of backlogs\nHow to structure a green card policy that aligns with your organization’s goals\nBest practices and common approaches to supporting employees through the green card process\nHow to balance business needs\, employee expectations\, and long-term planning\n\nDavid will provide timely updates on the visa bulletin and share practical strategies for developing a thoughtful\, effective green card program. \n*This webinar is offering SHRM Professional Development Credit. You must attend live to earn SHRM credit.
URL:https://brownimmigrationlaw.com/webinar/green-card-series-strategic-paths-for-employers-and-foreign-born-talent-part-one/
LOCATION:GoTo Webinar
END:VEVENT
BEGIN:VEVENT
DTSTART;TZID=America/Chicago:20260514T130000
DTEND;TZID=America/Chicago:20260514T140000
DTSTAMP:20260423T015735
CREATED:20260216T194005Z
LAST-MODIFIED:20260216T215322Z
UID:4421-1778763600-1778767200@brownimmigrationlaw.com
SUMMARY:Green Card Series: Strategic Paths for Employers and Foreign-Born Talent Part Two
DESCRIPTION:Part 2: Advanced Strategies for Employment-Based Green Cards \nJoin David Zaritzky Brown\, Founder and Managing Partner of Brown Immigration Law\, for the second session of our Green Card series. This session takes a deeper look at employment-based green card options and provides practical examples of how they operate in real-world scenarios. \nIn this session\, you will learn: \n\nDetailed strategies for PERM-based EB-2 and EB-3 filings\nInsights into Extraordinary Ability\, Outstanding Researcher\, and Multinational Manager filings\nHow the EB-2 National Interest Waiver (NIW) category works\nPractical approaches for individuals facing significant immigrant visa backlogs\, including David’s “leap-frogging” strategy\nWays to streamline multiple filings to save time and reduce costs\n\nFollowing the presentation\, David will host a live Q&A to answer audience questions and provide guidance on complex green card scenarios. \n*This webinar is offering SHRM Professional Development Credit. You must attend live to earn SHRM credit.
URL:https://brownimmigrationlaw.com/webinar/green-card-series-strategic-paths-for-employers-and-foreign-born-talent-part-two/
LOCATION:GoTo Webinar
END:VEVENT
END:VCALENDAR