BEGIN:VCALENDAR
VERSION:2.0
PRODID:-//Brown Immigration Law - ECPv6.15.20//NONSGML v1.0//EN
CALSCALE:GREGORIAN
METHOD:PUBLISH
X-WR-CALNAME:Brown Immigration Law
X-ORIGINAL-URL:https://brownimmigrationlaw.com
X-WR-CALDESC:Events for Brown Immigration Law
REFRESH-INTERVAL;VALUE=DURATION:PT1H
X-Robots-Tag:noindex
X-PUBLISHED-TTL:PT1H
BEGIN:VTIMEZONE
TZID:America/Chicago
BEGIN:DAYLIGHT
TZOFFSETFROM:-0600
TZOFFSETTO:-0500
TZNAME:CDT
DTSTART:20250309T080000
END:DAYLIGHT
BEGIN:STANDARD
TZOFFSETFROM:-0500
TZOFFSETTO:-0600
TZNAME:CST
DTSTART:20251102T070000
END:STANDARD
BEGIN:DAYLIGHT
TZOFFSETFROM:-0600
TZOFFSETTO:-0500
TZNAME:CDT
DTSTART:20260308T080000
END:DAYLIGHT
BEGIN:STANDARD
TZOFFSETFROM:-0500
TZOFFSETTO:-0600
TZNAME:CST
DTSTART:20261101T070000
END:STANDARD
BEGIN:DAYLIGHT
TZOFFSETFROM:-0600
TZOFFSETTO:-0500
TZNAME:CDT
DTSTART:20270314T080000
END:DAYLIGHT
BEGIN:STANDARD
TZOFFSETFROM:-0500
TZOFFSETTO:-0600
TZNAME:CST
DTSTART:20271107T070000
END:STANDARD
END:VTIMEZONE
BEGIN:VEVENT
DTSTART;TZID=America/Chicago:20260423T130000
DTEND;TZID=America/Chicago:20260423T140000
DTSTAMP:20260423T002414
CREATED:20260216T193711Z
LAST-MODIFIED:20260216T204802Z
UID:4419-1776949200-1776952800@brownimmigrationlaw.com
SUMMARY:Immigration Townhall and Trump Administration Update
DESCRIPTION:The H-1B Cap filings are heading out the door and the world marches on\, but for immigration attorneys we’re always navigating an ever-changing ecosystem and our larger clients get the benefit of annual Townhalls and onsite meetings. Today we’re bringing the Townhall to all clients – join Managing Partner\, David Zaritzky Brown\, as he highlights important concepts for both employees and HR to understand when employing foreign workers\, and he will share the latest immigration news relevant for HR and individuals who are in a work authorized status while in the U.S. \nFollowing the presentation\, David will remain available to answer questions and discuss real-world scenarios. \n*This webinar is offering SHRM Professional Development Credit. You must attend live to earn SHRM credit.
URL:https://brownimmigrationlaw.com/webinar/immigration-townhall-and-trump-administration-update/
LOCATION:GoTo Webinar
END:VEVENT
END:VCALENDAR